BEGIN:VCALENDAR
METHOD:PUBLISH
VERSION:2.0
PRODID:-//WoltLab GmbH//WoltLab Suite Calendar 5.4//EN
CALSCALE:GREGORIAN
X-WR-CALNAME;VALUE=TEXT:Oldtimertreffen in Rendsburg auf dem Norla Gelände 
  am 21.05.2023
BEGIN:VEVENT
TRANSP:OPAQUE
UID:event-98@www.golfcabrio.de
URL:https://www.golfcabrio.de/web/calendar/event/7-oldtimertreffen-in-rends
 burg-auf-dem-norla-gel%C3%A4nde-am-21-05-2023/
DTSTART:20230521T070000Z
DTSTAMP:20230521T070000Z
CREATED:20230521T070000Z
SUMMARY:Oldtimertreffen in Rendsburg auf dem Norla Gelände  am 21.05.2023
DTEND:20230521T140000Z
END:VEVENT
END:VCALENDAR
