BEGIN:VCALENDAR
METHOD:PUBLISH
VERSION:2.0
PRODID:-//WoltLab GmbH//WoltLab Suite Calendar 5.4//EN
CALSCALE:GREGORIAN
X-WR-CALNAME;VALUE=TEXT:Stammtisch-Treffen Witten + Worms/Speyer in Siegbur
 g
BEGIN:VEVENT
TRANSP:TRANSPARENT
UID:event-89@www.golfcabrio.de
URL:https://www.golfcabrio.de/web/calendar/event/654-stammtisch-treffen-wit
 ten-worms-speyer-in-siegburg/
DTSTART;VALUE=DATE:20230514
DTSTAMP:20230514T000000Z
CREATED:20230514T000000Z
SUMMARY:Stammtisch-Treffen Witten + Worms/Speyer in Siegburg
DESCRIPTION:Liebe Freunde der dachlosen Fahrweise !\n\nNun sind alle logist
 ischen Details zu dieser Tour geklärt so daß ich hiermit nun freudig die ge
 plante Ausfahrt mal manifestieren darf.\n\nAm 14.05.2023 treffen wir uns um
  09:00 Uhr an meiner Werkstatt in Witten. Von dort aus fahren wir um 09:30 
 Uhr im Entenmarsch zunächst bis nach Burscheid - dort übernimmt dann unser 
 Freund Hermann aka speedy47 die Führung auf einer Überlandstrecke bis nach 
 Siegburg wo wir zwischen 11:30 und 12:00 Uhr im \"Braddys und Laredos\" zum
  Burger-Brunch einkehren und uns mit den netten Leuten vom Stammtisch Speye
 r/Worms treffen mit denen wir in letzten Jahr bereits eine Rhein-Mosel Tour
  unternommen haben.\n\nhttps://www.braddys-laredos.de/\n\nNach dem wir unse
 ren Appetit fürstlich befriedigt haben wird sich unser Freund Chris aka Gen
 esis61 dann ab ca. 13:00 Uhr an die Pole Position setzen und uns am Rhein e
 ntlang führen wo wir unter anderem am Drachenfels und der Brücke von Remage
 n vorbeikommen. Wir werden die Aussichtsplattform am Erpeler Ley besetzen u
 nd uns an der wunderschönen Gegend sicher gar nicht satt sehen können.\n\nh
 ttps://de.wikipedia.org/wiki/Erpeler_Ley [URL:https://l.facebook.com/l.php?
 u=https%3A%2F%2Fde.wikipedia.org%2Fwiki%2FErpeler_Ley%3Ffbclid%3DIwAR3lE6-5
 4-FTNegQcQjI3DfTl27UrF2VWqFHXX9VNhaDreT76s0h5URuI84&h=AT2lU6VxiEnP55wHr-6pO
 SADuNl5QtpiY8p3_nZgphoged8W6jG-3UyLrPzZRAV17uc7LWtuDG1CrnT2go_BomQlxLMcGaFv
 wRSEKKrz7mJBL0QJw7NyCL2x4f3gtVLrjqi4ZKf1BCCNVUlJzkk&__tn__=q&c%5B0%5D=AT1Be
 m3_uAf6eYQaWh_RBOmQPkLfjgrREbtVF8z0wFMibmtUkR23OhNrJe31t96Thr2nPhhaje7dHOAJ
 Dlt_426QhlVQyxTbPzC8Clcz1jddbVJSbKwP-HVoWLLo7l4o1W0]\n\nWir werden dann ein
 e Fähre kapern um auf der anderen Rheinseite zurückzufahren und um ca. 18 U
 hr in einem Cafe in Bonn-Poppelsdorf einkehren - der dortige Inhaber wird u
 ns exklusiv mit Getränken und ein paar Häppchen verköstigen - auch dafür is
 t gesorgt. Danach ist Aufbruchsstimmung - wir nehmen uns zum Abschiedsknudd
 eln in die Arme und fahren mit einer Träne im Auge wieder heim mit der Gewi
 ssheit wieder einen wundervollen Tag in vollen Zügen genossen zu haben.\n\n
 Wir freuen uns auf Euch und verbleiben mit den besten Grüßen\n\nEwa und Udo
  (der Esel immer zuletzt)    :) \n\n\n\nhttps://de.wikipedia.org/wiki/Drach
 enfels_(Siebengebirge)\n\nhttps://www.facebook.com/Braddys.Laredos
LOCATION:Siegburg
DTEND;VALUE=DATE:20230515
END:VEVENT
END:VCALENDAR
