BEGIN:VCALENDAR
METHOD:PUBLISH
VERSION:2.0
PRODID:-//WoltLab GmbH//WoltLab Suite Calendar 5.4//EN
CALSCALE:GREGORIAN
X-WR-CALNAME;VALUE=TEXT:Oldtimertreffen in Traventhal
BEGIN:VEVENT
TRANSP:OPAQUE
UID:event-71@www.golfcabrio.de
URL:https://www.golfcabrio.de/web/calendar/event/636-oldtimertreffen-in-tra
 venthal/
DTSTART:20220606T070000Z
DTSTAMP:20220606T070000Z
CREATED:20220606T070000Z
SUMMARY:Oldtimertreffen in Traventhal
DESCRIPTION:http://www.landgestuet-traventhal.de/veranstaltungen/aktuell/20
 22/oldtimertreffen-2022-06.html
DTEND:20220606T160000Z
END:VEVENT
END:VCALENDAR
