BEGIN:VCALENDAR
METHOD:PUBLISH
VERSION:2.0
PRODID:-//WoltLab GmbH//WoltLab Suite Calendar 5.4//EN
CALSCALE:GREGORIAN
X-WR-CALNAME;VALUE=TEXT:Oldtimer Treffen\, Kieler Woche\, Nordmark Sportfel
 d
BEGIN:VEVENT
TRANSP:OPAQUE
UID:event-68@www.golfcabrio.de
URL:https://www.golfcabrio.de/web/calendar/event/633-oldtimer-treffen-kiele
 r-woche-nordmark-sportfeld/
DTSTART:20220622T130000Z
DTSTAMP:20220622T130000Z
CREATED:20220622T130000Z
SUMMARY:Oldtimer Treffen\, Kieler Woche\, Nordmark Sportfeld
DTEND:20220622T163000Z
END:VEVENT
END:VCALENDAR
