BEGIN:VCALENDAR
METHOD:PUBLISH
VERSION:2.0
PRODID:-//WoltLab GmbH//WoltLab Suite Calendar 5.4//EN
CALSCALE:GREGORIAN
X-WR-CALNAME;VALUE=TEXT:Oldtimer Treffen in Rendsburg
BEGIN:VEVENT
TRANSP:OPAQUE
UID:event-66@www.golfcabrio.de
URL:https://www.golfcabrio.de/web/calendar/event/631-oldtimer-treffen-in-re
 ndsburg/
DTSTART:20220529T070000Z
DTSTAMP:20220529T070000Z
CREATED:20220529T070000Z
SUMMARY:Oldtimer Treffen in Rendsburg
DESCRIPTION:https://www.oldtimertreffen-rendsburg.de/
DTEND:20220529T140000Z
END:VEVENT
END:VCALENDAR
