BEGIN:VCALENDAR
METHOD:PUBLISH
VERSION:2.0
PRODID:-//WoltLab GmbH//WoltLab Suite Calendar 5.4//EN
CALSCALE:GREGORIAN
X-WR-CALNAME;VALUE=TEXT:Klassiker Tage in Neumünster
BEGIN:VEVENT
TRANSP:OPAQUE
UID:event-65@www.golfcabrio.de
URL:https://www.golfcabrio.de/web/calendar/event/630-klassiker-tage-in-neum
 %C3%BCnster/
DTSTART:20220528T080000Z
DTSTAMP:20220528T080000Z
CREATED:20220528T080000Z
SUMMARY:Klassiker Tage in Neumünster
DESCRIPTION:https://www.ktsh.de/klassiker-tage/
DTEND:20220529T150000Z
END:VEVENT
END:VCALENDAR
