BEGIN:VCALENDAR
METHOD:PUBLISH
VERSION:2.0
PRODID:-//WoltLab GmbH//WoltLab Suite Calendar 5.4//EN
CALSCALE:GREGORIAN
X-WR-CALNAME;VALUE=TEXT:Old & Youngtimertreffen 'Die letzten Luden'
BEGIN:VEVENT
TRANSP:OPAQUE
UID:event-64@www.golfcabrio.de
URL:https://www.golfcabrio.de/web/calendar/event/629-old-youngtimertreffen-
 die-letzten-luden/
DTSTART:20220708T100000Z
DTSTAMP:20220708T100000Z
CREATED:20220708T100000Z
SUMMARY:Old & Youngtimertreffen 'Die letzten Luden'
DTEND:20220710T100000Z
END:VEVENT
END:VCALENDAR
