BEGIN:VCALENDAR
METHOD:PUBLISH
VERSION:2.0
PRODID:-//WoltLab GmbH//WoltLab Suite Calendar 5.4//EN
CALSCALE:GREGORIAN
X-WR-CALNAME;VALUE=TEXT:Carfreitag Aral Autohof Konken/Rheinland-Pfalz
BEGIN:VEVENT
TRANSP:OPAQUE
UID:event-56@www.golfcabrio.de
URL:https://www.golfcabrio.de/web/calendar/event/621-carfreitag-aral-autoho
 f-konken-rheinland-pfalz/
DTSTART:20220415T110000Z
DTSTAMP:20220415T110000Z
CREATED:20220415T110000Z
SUMMARY:Carfreitag Aral Autohof Konken/Rheinland-Pfalz
DESCRIPTION:Nach mehr als 2 Jahren versuchen wir wieder einmal das beliebte
  und gut angekommene Carfreitag Treffen an dem Autohof Aral in Konken wiede
 r ins Leben zu Rufen.Wir hoffen auf gutes Wetter und einen Tollen Tag mit v
 ielen Verschiedenen Autos und eine gute Stimmung.\n\nRegeln wie immer!!\nKe
 ine Burnouts auf dem Parkplatz.\nKeine Drifts.\nKein Müll auf dem Parkplatz
  hinterlassen.\nWie sonst die letzten Treffen auch Super abgelaufen sind.\n
 \nJe nach Wetter auch an Sonnenschutz denken Pavillon oder ähnliches.\n\nBi
 tte beachtet die geltenden Hygienekonzepte zu der jeweiligen Zeit.\n\nIch h
 offe auf ein Zahlreiches Erscheinen und einen super Abend.\n\nStay Tuned💪
LOCATION:https://m.facebook.com/events/4841949032589188?acontext=%7B%22sour
 ce%22%3A%223%22%2C%22action_history%22%3A%22null%22%7D&aref=3&refid=17&__tn
 __=HH-R
DTEND:20220415T180000Z
END:VEVENT
END:VCALENDAR
