BEGIN:VCALENDAR
METHOD:PUBLISH
VERSION:2.0
PRODID:-//WoltLab GmbH//WoltLab Suite Calendar 5.4//EN
CALSCALE:GREGORIAN
X-WR-CALNAME;VALUE=TEXT:KTSH-Treffen Holstenhallen NMS
BEGIN:VEVENT
TRANSP:OPAQUE
UID:event-50@www.golfcabrio.de
URL:https://www.golfcabrio.de/web/calendar/event/209-ktsh-treffen-holstenha
 llen-nms/
DTSTART:20210731T060000Z
DTSTAMP:20210731T060000Z
CREATED:20210731T060000Z
SUMMARY:KTSH-Treffen Holstenhallen NMS
DESCRIPTION:KTSH-Treffen\nAm 31.07.2021\, 9:00-18:00 auf dem Freigelände de
 r Holstenhallen in Neumünster\nEintritt frei\, kein Test+keine Maske\, Regi
 strierung mit Luca oder Papier.
DTEND:20210731T180000Z
END:VEVENT
END:VCALENDAR
