BEGIN:VCALENDAR
METHOD:PUBLISH
VERSION:2.0
PRODID:-//WoltLab GmbH//WoltLab Suite Calendar 5.4//EN
CALSCALE:GREGORIAN
X-WR-CALNAME;VALUE=TEXT:Traventhaler Oldtimertreffen
BEGIN:VEVENT
TRANSP:TRANSPARENT
UID:event-39@www.golfcabrio.de
URL:https://www.golfcabrio.de/web/calendar/event/198-traventhaler-oldtimert
 reffen/
DTSTART;VALUE=DATE:20190609
DTSTAMP:20190609T000000Z
CREATED:20190609T000000Z
SUMMARY:Traventhaler Oldtimertreffen
DESCRIPTION:http://www.landgestuet-traventhal.de/veranstaltungen/aktuell/20
 19/oldtimertreffen-2019-06/index.html
DTEND;VALUE=DATE:20190611
END:VEVENT
END:VCALENDAR
