BEGIN:VCALENDAR
METHOD:PUBLISH
VERSION:2.0
PRODID:-//WoltLab GmbH//WoltLab Suite Calendar 5.4//EN
CALSCALE:GREGORIAN
X-WR-CALNAME;VALUE=TEXT:Oldtimertreffen Frankenberg
BEGIN:VEVENT
TRANSP:OPAQUE
UID:event-29@www.golfcabrio.de
URL:https://www.golfcabrio.de/web/calendar/event/188-oldtimertreffen-franke
 nberg/
DTSTART:20190428T080000Z
DTSTAMP:20190428T080000Z
CREATED:20190428T080000Z
SUMMARY:Oldtimertreffen Frankenberg
DESCRIPTION:775 Jahre Frankenberg\nFestplatz Wehrweide\, Willhelmstr.35066 
 Frankenberg\n\nhttps://www.frankenberg.de/index.php/termin/id-775-oldtimer-
 fuer-frankenberg-eder.html
DTEND:20190428T180000Z
END:VEVENT
END:VCALENDAR
