BEGIN:VCALENDAR
METHOD:PUBLISH
VERSION:2.0
PRODID:-//WoltLab GmbH//WoltLab Suite Calendar 5.4//EN
CALSCALE:GREGORIAN
X-WR-CALNAME;VALUE=TEXT:3. Emslandrundfahrt
BEGIN:VEVENT
TRANSP:TRANSPARENT
UID:event-150@www.golfcabrio.de
URL:https://www.golfcabrio.de/web/calendar/event/874-3-emslandrundfahrt/
DTSTART;VALUE=DATE:20250712
DTSTAMP:20250712T000000Z
CREATED:20250712T000000Z
SUMMARY:3. Emslandrundfahrt
DESCRIPTION:Teilnehmer: Golf 1 Cabrio\, Golf 3 / 4 Cabrio Golf 6 Cabrio\n\n
 Treffpunkt:\nParkplatz Speicherbecken Geeste\nBiener Str. 13a\, 49744 Geest
 e\nZeitpunkt: Eintreffen am Sonnabend 12. Juli 2025 ab 10:00 Uhr\nBeginn de
 r Rundfahrt gegen 11:30 Uhr\n\n\nZiel: Restaurant „Grüner Jäger“\,\n\n\n\nS
 chüttorfer Str. 88\, 49808 Lingen (Ems)\nAb etwa 15:00 Uhr gemeinsames Beis
 ammensein
LOCATION:Biener Str. 13a\, 49744 Geeste
DTEND;VALUE=DATE:20250713
STATUS:CANCELLED
END:VEVENT
END:VCALENDAR
