BEGIN:VCALENDAR
METHOD:PUBLISH
VERSION:2.0
PRODID:-//WoltLab GmbH//WoltLab Suite Calendar 5.4//EN
CALSCALE:GREGORIAN
X-WR-CALNAME;VALUE=TEXT:Ullis Oldtimer & Teilemarkt  53819 Neunkirchen – S
BEGIN:VEVENT
TRANSP:OPAQUE
UID:event-15@www.golfcabrio.de
URL:https://www.golfcabrio.de/web/calendar/event/74-ullis-oldtimer-teilemar
 kt-53819-neunkirchen-s/
DTSTART:20190323T070000Z
DTSTAMP:20190323T070000Z
CREATED:20190323T070000Z
SUMMARY:Ullis Oldtimer & Teilemarkt  53819 Neunkirchen – S
DESCRIPTION:http://www.oldtimertage-hennef-sieg.de/
DTEND:20190324T190000Z
END:VEVENT
END:VCALENDAR
