BEGIN:VCALENDAR
METHOD:PUBLISH
VERSION:2.0
PRODID:-//WoltLab GmbH//WoltLab Suite Calendar 5.4//EN
CALSCALE:GREGORIAN
X-WR-CALNAME;VALUE=TEXT:33. Oldtimertreffen im Kurpark Bad Bentheim
BEGIN:VEVENT
TRANSP:OPAQUE
UID:event-149@www.golfcabrio.de
URL:https://www.golfcabrio.de/web/calendar/event/873-33-oldtimertreffen-im-
 kurpark-bad-bentheim/
DTSTART:20250713T080000Z
DTSTAMP:20250713T080000Z
CREATED:20250713T080000Z
SUMMARY:33. Oldtimertreffen im Kurpark Bad Bentheim
DESCRIPTION:Chromblitzende Karossen im Kurpark\n\n\n\nDieses internationale
  Oldtimertreffen im Kurpark Bad Bentheim findet 2025 zum 33sten Mal statt. 
 Einmal jährlich – regelmäßig am zweiten Juli-Wochenende – treffen sich hier
  Oldtimer\, Youngtimer\, Vintage und Classic Cars sowie viele Besucher und 
 Interessierte. 2019\, 2021\, 2022\, 2023 sowie 2024 nahmen jeweils über 200
  Oldtimer\, Youngtimer und Klassiker teil.\n\n\nDas Oldtimertreffen im Kurp
 ark beginnt um 10 Uhr\, das Ende ist gegen 17 Uhr.\n\n\n\nDie Teilnahme und
  der Eintritt sind kostenfrei.\nEin kulinarisches Angebot gibt es während d
 es Oldtimertreffens im Kurhaus und im Biergarten an der Therme.\n\nZugelass
 en zu diesem Treffen sind zwei-\, drei- und vierrädrige Oldtimer mit H-Kenn
 zeichen. Sie sollten also mindestens 30 Jahre alt sein.
LOCATION:Am Bade  Bad Bentheim 48455  Niedersachsen  Deutschland
GEO:52.5169983;13.3999996
DTEND:20250713T150000Z
END:VEVENT
END:VCALENDAR
