BEGIN:VCALENDAR
METHOD:PUBLISH
VERSION:2.0
PRODID:-//WoltLab GmbH//WoltLab Suite Calendar 5.4//EN
CALSCALE:GREGORIAN
X-WR-CALNAME;VALUE=TEXT:Ausfahrt durchs Oberbergische - Treffpunkt: Radevor
 mwald
BEGIN:VEVENT
TRANSP:TRANSPARENT
UID:event-137@www.golfcabrio.de
URL:https://www.golfcabrio.de/web/calendar/event/861-ausfahrt-durchs-oberbe
 rgische-treffpunkt-radevormwald/
DTSTART;VALUE=DATE:20240721
DTSTAMP:20240721T000000Z
CREATED:20240721T000000Z
SUMMARY:Ausfahrt durchs Oberbergische - Treffpunkt: Radevormwald
DESCRIPTION:Werte Freunde und die die es werden wollen !\n\nEin Kollege aus
  meiner Schulzeit hat sich seit neuestem u.A. auf einem Campingplatz in Rad
 evormwald einen Gastronomiebetrieb angeeignet.\n\nMichael und Biggi werden 
 uns am 21.07.2024 um 12:00 Uhr erwarten um uns mit Sachen wie z.B. Jägersch
 nitzel\, Pommes und Eis draußen unterm Schirm gastronomisch zu verwöhnen.\n
 \n\n\nUns wird ein gewisser \"Golf-Club-Rabatt\" gewährt   :op10: \n\nBei A
 ußentemperaturen über 40 Grad gehen wir natürlich rein   :saint: \n\nDas \"
 Casa Kräwi\" stand 3 Jahre leer - nun sind die beiden dabei dort wieder Leb
 en in die Hütte zu zaubern.\n\nWir waren jetzt Sonntag dort um uns das anzu
 sehen und waren doch sehr beeindruckt - da fehlt nicht mehr viel - am 21.7.
  soll der Laden schon laufen !\n\n\n\nNach dem Mittags-Treff und ein paar n
 etten kurzweiligen Gesprächen wird uns Classicwolf ab 13:30 Uhr ca. 2 Stund
 en lang durch oberbergische Täler\, Hügel und Felder führen.\n\nhttps://de.
 wikipedia.org/wiki/Oberbergischer_Kreis\n\nSicher werden wir wie gewohnt ei
 nen Fotostopp einlegen   8) \n\nDie Adresse für den Treffpunkt ist \"Kräwin
 kel 2\" in 42477 Radevormwald:\n\n\n\nDie Parkplätze dort sind kostenlos.\n
 \n\n\nWer Lust hat mit uns von Witten aus dorthin zu fahren - kein Problem.
  Wir fahren an meiner Werkstatt um ca. 10:30 Uhr los.\n\nEndpunkt steht noc
 h nicht genau fest. Wird nachgereicht so bald die Tour steht.\n\nWir freuen
  uns auf euch   :wink:
LOCATION:Kräwinkel 2\, 42477 Radevormwald\, Deutschland
GEO:51.1847115;7.3136182
DTEND;VALUE=DATE:20240722
STATUS:CANCELLED
END:VEVENT
END:VCALENDAR
