BEGIN:VCALENDAR
METHOD:PUBLISH
VERSION:2.0
PRODID:-//WoltLab GmbH//WoltLab Suite Calendar 5.4//EN
CALSCALE:GREGORIAN
X-WR-CALNAME;VALUE=TEXT:Golf 1cabrio Tag Bispingen
BEGIN:VEVENT
TRANSP:TRANSPARENT
UID:event-126@www.golfcabrio.de
URL:https://www.golfcabrio.de/web/calendar/event/850-golf-1cabrio-tag-bispi
 ngen/
DTSTART;VALUE=DATE:20240818
DTSTAMP:20240818T000000Z
CREATED:20240818T000000Z
SUMMARY:Golf 1cabrio Tag Bispingen
DTEND;VALUE=DATE:20240819
CATEGORIES:https://facebook.com/events/s/
END:VEVENT
END:VCALENDAR
