BEGIN:VCALENDAR
METHOD:PUBLISH
VERSION:2.0
PRODID:-//WoltLab GmbH//WoltLab Suite Calendar 5.4//EN
CALSCALE:GREGORIAN
X-WR-CALNAME;VALUE=TEXT:Classic Cars Cinema Event Autokino Essen
BEGIN:VEVENT
TRANSP:OPAQUE
UID:event-110@www.golfcabrio.de
URL:https://www.golfcabrio.de/web/calendar/event/667-classic-cars-cinema-ev
 ent-autokino-essen/
DTSTART:20230817T170000Z
DTSTAMP:20230817T170000Z
CREATED:20230817T170000Z
SUMMARY:Classic Cars Cinema Event Autokino Essen
DESCRIPTION:Liebe Classic Car Community\,\n\nwir freuen uns\, euch zu unser
 em ersten Classic Cars Cinema-Event im Autokino Essen zu informieren! Marki
 ert euch den 17. August 2023 in eurem Kalender\, denn es erwartet euch eine
  unvergessliche Zeit mit Benzingesprächen\, coolen Karren und Gastronomie m
 it Ruhrgebietscharme.\n\nDatum: 17.8.2023\nEintritt: 7\,50€ pro Person (Son
 derpreis)\nEinlass: 19:00 Uhr \nLocation: Autokino Essen https://maps.app.g
 oo.gl/QKdabUiVoe8HuiJy7\nTeilnahme nur mit klassischen Fahrzeugen möglich\n
 \nBitte beachtet\, dass die Plätze begrenzt sind\, daher können nur Leute b
 erücksichtigt werden\, die eine Vorabzahlung per PayPal an  geleistet haben
 . Sobald die Zahlung erfolgt ist\, werden die Tickets an euch versendet.\n\
 nAußerdem haben wir ein spannendes Rahmenprogramm für euch geplant! \n\nWir
  freuen uns auf einen unvergesslichen Abend voller Autos\, einem Filmklassi
 ker und guter Gesellschaft!\n\nViele Grüße\,\nEure Veranstalter
LOCATION:Autokino Essen
DTEND:20230817T200000Z
END:VEVENT
END:VCALENDAR
